BEGIN:VCALENDAR
VERSION:2.0
PRODID:-//Prawosławna Parafia św. Sofii Mądrości Bożej - ECPv6.2.8.2//NONSGML v1.0//EN
CALSCALE:GREGORIAN
METHOD:PUBLISH
X-ORIGINAL-URL:https://hagiasophia.waw.pl
X-WR-CALDESC:Wydarzenia dla Prawosławna Parafia św. Sofii Mądrości Bożej
REFRESH-INTERVAL;VALUE=DURATION:PT1H
X-Robots-Tag:noindex
X-PUBLISHED-TTL:PT1H
BEGIN:VTIMEZONE
TZID:Europe/Helsinki
BEGIN:DAYLIGHT
TZOFFSETFROM:+0200
TZOFFSETTO:+0300
TZNAME:EEST
DTSTART:20240331T010000
END:DAYLIGHT
BEGIN:STANDARD
TZOFFSETFROM:+0300
TZOFFSETTO:+0200
TZNAME:EET
DTSTART:20241027T010000
END:STANDARD
END:VTIMEZONE
BEGIN:VEVENT
DTSTART;TZID=Europe/Helsinki:20240525T090000
DTEND;TZID=Europe/Helsinki:20240525T110000
DTSTAMP:20260420T163655
CREATED:20240423T182306Z
LAST-MODIFIED:20240423T182306Z
UID:14832-1716627600-1716634800@hagiasophia.waw.pl
SUMMARY:Święta Liturgia i Panichida
DESCRIPTION:
URL:https://hagiasophia.waw.pl/event/swieta-liturgia-i-panichida-19/
END:VEVENT
BEGIN:VEVENT
DTSTART;TZID=Europe/Helsinki:20240525T170000
DTEND;TZID=Europe/Helsinki:20240525T190000
DTSTAMP:20260420T163655
CREATED:20240423T182348Z
LAST-MODIFIED:20240423T182348Z
UID:14834-1716656400-1716663600@hagiasophia.waw.pl
SUMMARY:Całonocne Czuwanie
DESCRIPTION:
URL:https://hagiasophia.waw.pl/event/calonocne-czuwanie-285/
END:VEVENT
BEGIN:VEVENT
DTSTART;TZID=Europe/Helsinki:20240526T080000
DTEND;TZID=Europe/Helsinki:20240526T100000
DTSTAMP:20260420T163655
CREATED:20240423T182420Z
LAST-MODIFIED:20240423T183739Z
UID:14837-1716710400-1716717600@hagiasophia.waw.pl
SUMMARY:CZWARTA NIEDZIELA PO PASCE O PARALITYKU  Święta Liturgia (ołtarz św. męcz. Pantelejmona)
DESCRIPTION:
URL:https://hagiasophia.waw.pl/event/swieta-liturgia-oltarz-sw-mecz-pantelejmona-28/
END:VEVENT
BEGIN:VEVENT
DTSTART;TZID=Europe/Helsinki:20240526T100000
DTEND;TZID=Europe/Helsinki:20240526T120000
DTSTAMP:20260420T163655
CREATED:20240423T182503Z
LAST-MODIFIED:20240423T183539Z
UID:14839-1716717600-1716724800@hagiasophia.waw.pl
SUMMARY:Święta Liturgia (główny ołtarz)
DESCRIPTION:
URL:https://hagiasophia.waw.pl/event/swieta-liturgia-glowny-oltarz-czwarta-niedziela-po-pasce-o-paralityku/
END:VEVENT
BEGIN:VEVENT
DTSTART;TZID=Europe/Helsinki:20240528T180000
DTEND;TZID=Europe/Helsinki:20240528T200000
DTSTAMP:20260420T163655
CREATED:20240423T182541Z
LAST-MODIFIED:20240423T183652Z
UID:14842-1716919200-1716926400@hagiasophia.waw.pl
SUMMARY:Wigilia Święta Połowy Okresu Pięćdziesiątnicy Całonocne Czuwanie
DESCRIPTION:
URL:https://hagiasophia.waw.pl/event/calonocne-czuwanie-wigilia-swieta-polowy-okresu-piecdziesiatnicy/
END:VEVENT
BEGIN:VEVENT
DTSTART;TZID=Europe/Helsinki:20240529T090000
DTEND;TZID=Europe/Helsinki:20240529T100000
DTSTAMP:20260420T163655
CREATED:20240423T182644Z
LAST-MODIFIED:20240423T182644Z
UID:14844-1716973200-1716976800@hagiasophia.waw.pl
SUMMARY:ŚWIĘTO PARAFIALNE Małe Poświęcenie Wody
DESCRIPTION:
URL:https://hagiasophia.waw.pl/event/swieto-parafialne-male-poswiecenie-wody/
END:VEVENT
BEGIN:VEVENT
DTSTART;TZID=Europe/Helsinki:20240529T100000
DTEND;TZID=Europe/Helsinki:20240529T130000
DTSTAMP:20260420T163655
CREATED:20240423T182713Z
LAST-MODIFIED:20240423T182732Z
UID:14846-1716976800-1716987600@hagiasophia.waw.pl
SUMMARY:POŁOWA OKRESU PIĘĆDZIESIĄTNICY Święta Liturgia i procesja wokół świątyni
DESCRIPTION:
URL:https://hagiasophia.waw.pl/event/polowa-okresu-piecdziesiatnicy-swieta-liturgia-i-procesja-wokol-swiatyni/
END:VEVENT
BEGIN:VEVENT
DTSTART;TZID=Europe/Helsinki:20240601T090000
DTEND;TZID=Europe/Helsinki:20240601T110000
DTSTAMP:20260420T163655
CREATED:20240531T210546Z
LAST-MODIFIED:20240531T210650Z
UID:15258-1717232400-1717239600@hagiasophia.waw.pl
SUMMARY:Święta Liturgia i Panichida
DESCRIPTION:
URL:https://hagiasophia.waw.pl/event/swieta-liturgia-i-panichida-20/
END:VEVENT
BEGIN:VEVENT
DTSTART;TZID=Europe/Helsinki:20240601T170000
DTEND;TZID=Europe/Helsinki:20240601T190000
DTSTAMP:20260420T163655
CREATED:20240531T210733Z
LAST-MODIFIED:20240531T210733Z
UID:15260-1717261200-1717268400@hagiasophia.waw.pl
SUMMARY:Całonocne Czuwanie
DESCRIPTION:
URL:https://hagiasophia.waw.pl/event/calonocne-czuwanie-286/
END:VEVENT
BEGIN:VEVENT
DTSTART;TZID=Europe/Helsinki:20240602T080000
DTEND;TZID=Europe/Helsinki:20240602T100000
DTSTAMP:20260420T163655
CREATED:20240531T210812Z
LAST-MODIFIED:20240531T210812Z
UID:15262-1717315200-1717322400@hagiasophia.waw.pl
SUMMARY:Święta Liturgia (ołtarz św. męcz. Pantelejmona)
DESCRIPTION:
URL:https://hagiasophia.waw.pl/event/swieta-liturgia-oltarz-sw-mecz-pantelejmona-29/
END:VEVENT
BEGIN:VEVENT
DTSTART;TZID=Europe/Helsinki:20240602T100000
DTEND;TZID=Europe/Helsinki:20240602T120000
DTSTAMP:20260420T163655
CREATED:20240531T210929Z
LAST-MODIFIED:20240531T210929Z
UID:15264-1717322400-1717329600@hagiasophia.waw.pl
SUMMARY:Święta Liturgia (główny ołtarz) PIĄTA NIEDZIELA PO PASCE O SAMARYTANCE
DESCRIPTION:
URL:https://hagiasophia.waw.pl/event/swieta-liturgia-glowny-oltarz-piata-niedziela-po-pasce-o-samarytance/
END:VEVENT
BEGIN:VEVENT
DTSTART;TZID=Europe/Helsinki:20240608T090000
DTEND;TZID=Europe/Helsinki:20240608T110000
DTSTAMP:20260420T163655
CREATED:20240531T211013Z
LAST-MODIFIED:20240531T211013Z
UID:15266-1717837200-1717844400@hagiasophia.waw.pl
SUMMARY:Święta Liturgia i Panichida
DESCRIPTION:
URL:https://hagiasophia.waw.pl/event/swieta-liturgia-i-panichida-21/
END:VEVENT
BEGIN:VEVENT
DTSTART;TZID=Europe/Helsinki:20240608T170000
DTEND;TZID=Europe/Helsinki:20240608T190000
DTSTAMP:20260420T163655
CREATED:20240531T211047Z
LAST-MODIFIED:20240531T211047Z
UID:15268-1717866000-1717873200@hagiasophia.waw.pl
SUMMARY:Całonocne Czuwanie
DESCRIPTION:
URL:https://hagiasophia.waw.pl/event/calonocne-czuwanie-287/
END:VEVENT
BEGIN:VEVENT
DTSTART;TZID=Europe/Helsinki:20240609T080000
DTEND;TZID=Europe/Helsinki:20240609T100000
DTSTAMP:20260420T163655
CREATED:20240531T211142Z
LAST-MODIFIED:20240531T211142Z
UID:15270-1717920000-1717927200@hagiasophia.waw.pl
SUMMARY:Święta Liturgia (ołtarz św. męcz. Pantelejmona)
DESCRIPTION:
URL:https://hagiasophia.waw.pl/event/swieta-liturgia-oltarz-sw-mecz-pantelejmona-30/
END:VEVENT
BEGIN:VEVENT
DTSTART;TZID=Europe/Helsinki:20240609T100000
DTEND;TZID=Europe/Helsinki:20240609T120000
DTSTAMP:20260420T163655
CREATED:20240531T211226Z
LAST-MODIFIED:20240531T211226Z
UID:15272-1717927200-1717934400@hagiasophia.waw.pl
SUMMARY:Święta Liturgia (główny ołtarz) SZÓSTA NIEDZIELA PO PASCE O ŚLEPCU
DESCRIPTION:
URL:https://hagiasophia.waw.pl/event/swieta-liturgia-glowny-oltarz-szosta-niedziela-po-pasce-o-slepcu/
END:VEVENT
BEGIN:VEVENT
DTSTART;TZID=Europe/Helsinki:20240612T090000
DTEND;TZID=Europe/Helsinki:20240612T110000
DTSTAMP:20260420T163655
CREATED:20240531T211327Z
LAST-MODIFIED:20240531T211327Z
UID:15274-1718182800-1718190000@hagiasophia.waw.pl
SUMMARY:Święta Liturgia Zakończenie święta Paschy
DESCRIPTION:
URL:https://hagiasophia.waw.pl/event/swieta-liturgia-zakonczenie-swieta-paschy/
END:VEVENT
BEGIN:VEVENT
DTSTART;TZID=Europe/Helsinki:20240612T180000
DTEND;TZID=Europe/Helsinki:20240612T200000
DTSTAMP:20260420T163655
CREATED:20240531T211403Z
LAST-MODIFIED:20240531T211403Z
UID:15277-1718215200-1718222400@hagiasophia.waw.pl
SUMMARY:Całonocne Czuwanie Wigilia święta Wniebowstąpienia Pańskiego
DESCRIPTION:
URL:https://hagiasophia.waw.pl/event/calonocne-czuwanie-wigilia-swieta-wniebowstapienia-panskiego/
END:VEVENT
BEGIN:VEVENT
DTSTART;TZID=Europe/Helsinki:20240613T090000
DTEND;TZID=Europe/Helsinki:20240613T110000
DTSTAMP:20260420T163655
CREATED:20240531T211456Z
LAST-MODIFIED:20240531T211456Z
UID:15279-1718269200-1718276400@hagiasophia.waw.pl
SUMMARY:Święta Liturgia ŚWIĘTO WNIEBOWSTĄPIENIA PAŃSKIEGO
DESCRIPTION:
URL:https://hagiasophia.waw.pl/event/swieta-liturgia-swieto-wniebowstapienia-panskiego/
END:VEVENT
BEGIN:VEVENT
DTSTART;TZID=Europe/Helsinki:20240615T090000
DTEND;TZID=Europe/Helsinki:20240615T110000
DTSTAMP:20260420T163655
CREATED:20240531T211532Z
LAST-MODIFIED:20240531T211532Z
UID:15281-1718442000-1718449200@hagiasophia.waw.pl
SUMMARY:Święta Liturgia i Panichida
DESCRIPTION:
URL:https://hagiasophia.waw.pl/event/swieta-liturgia-i-panichida-22/
END:VEVENT
BEGIN:VEVENT
DTSTART;TZID=Europe/Helsinki:20240615T170000
DTEND;TZID=Europe/Helsinki:20240615T190000
DTSTAMP:20260420T163655
CREATED:20240531T211617Z
LAST-MODIFIED:20240531T211617Z
UID:15283-1718470800-1718478000@hagiasophia.waw.pl
SUMMARY:Całonocne Czuwanie
DESCRIPTION:
URL:https://hagiasophia.waw.pl/event/calonocne-czuwanie-288/
END:VEVENT
BEGIN:VEVENT
DTSTART;TZID=Europe/Helsinki:20240616T080000
DTEND;TZID=Europe/Helsinki:20240616T110000
DTSTAMP:20260420T163655
CREATED:20240531T211654Z
LAST-MODIFIED:20240531T211654Z
UID:15285-1718524800-1718535600@hagiasophia.waw.pl
SUMMARY:Święta Liturgia (ołtarz św. męcz. Pantelejmona)
DESCRIPTION:
URL:https://hagiasophia.waw.pl/event/swieta-liturgia-oltarz-sw-mecz-pantelejmona-31/
END:VEVENT
BEGIN:VEVENT
DTSTART;TZID=Europe/Helsinki:20240616T100000
DTEND;TZID=Europe/Helsinki:20240616T120000
DTSTAMP:20260420T163655
CREATED:20240531T211759Z
LAST-MODIFIED:20240531T211759Z
UID:15287-1718532000-1718539200@hagiasophia.waw.pl
SUMMARY:Święta Liturgia (główny ołtarz) Bezpośrednio po Liturgii Molebien dziękczynny z okazji zakończenia Roku Szkolnego w Punkcie Katechetycznym SIÓDMA NIEDZIELA PO PASCE ŚWIĘTYCH OJCÓW I SOBORU POWSZECHNGO
DESCRIPTION:
URL:https://hagiasophia.waw.pl/event/swieta-liturgia-glowny-oltarz-bezposrednio-po-liturgii-molebien-dziekczynny-z-okazji-zakonczenia-roku-szkolnego-w-punkcie-katechetycznym-siodma-niedziela-po-pasce-swietych-ojcow-i-soboru-powszechngo/
END:VEVENT
BEGIN:VEVENT
DTSTART;TZID=Europe/Helsinki:20240622T090000
DTEND;TZID=Europe/Helsinki:20240622T110000
DTSTAMP:20260420T163655
CREATED:20240531T211856Z
LAST-MODIFIED:20240531T211856Z
UID:15289-1719046800-1719054000@hagiasophia.waw.pl
SUMMARY:Święta Liturgia i Panichida SOBOTA RODZICIELSKA Dzień szczególnej modlitwy za zmarłych
DESCRIPTION:
URL:https://hagiasophia.waw.pl/event/swieta-liturgia-i-panichida-sobota-rodzicielska-dzien-szczegolnej-modlitwy-za-zmarlych/
END:VEVENT
BEGIN:VEVENT
DTSTART;TZID=Europe/Helsinki:20240622T170000
DTEND;TZID=Europe/Helsinki:20240622T190000
DTSTAMP:20260420T163655
CREATED:20240531T211942Z
LAST-MODIFIED:20240531T211942Z
UID:15291-1719075600-1719082800@hagiasophia.waw.pl
SUMMARY:Całonocne Czuwanie Wigilia święta Pięćdziesiątnicy
DESCRIPTION:
URL:https://hagiasophia.waw.pl/event/calonocne-czuwanie-wigilia-swieta-piecdziesiatnicy/
END:VEVENT
BEGIN:VEVENT
DTSTART;TZID=Europe/Helsinki:20240623T080000
DTEND;TZID=Europe/Helsinki:20240623T110000
DTSTAMP:20260420T163655
CREATED:20240531T212039Z
LAST-MODIFIED:20240531T212039Z
UID:15293-1719129600-1719140400@hagiasophia.waw.pl
SUMMARY:Święta Liturgia (ołtarz św. męcz. Pantelejmona)
DESCRIPTION:
URL:https://hagiasophia.waw.pl/event/swieta-liturgia-oltarz-sw-mecz-pantelejmona-32/
END:VEVENT
BEGIN:VEVENT
DTSTART;TZID=Europe/Helsinki:20240623T100000
DTEND;TZID=Europe/Helsinki:20240623T120000
DTSTAMP:20260420T163655
CREATED:20240531T212204Z
LAST-MODIFIED:20240531T212204Z
UID:15295-1719136800-1719144000@hagiasophia.waw.pl
SUMMARY:Święta Liturgia (główny ołtarz) Bezpośrednio po Liturgii Wielka Wieczernia z modlitwami na skłonienie kolan ŚWIĘTO ŚWIĘTEJ TRÓJCY. PIĘĆDZIESIĄTNICA
DESCRIPTION:
URL:https://hagiasophia.waw.pl/event/swieta-liturgia-glowny-oltarz-bezposrednio-po-liturgii-wielka-wieczernia-z-modlitwami-na-sklonienie-kolan-swieto-swietej-trojcy-piecdziesiatnica/
END:VEVENT
BEGIN:VEVENT
DTSTART;TZID=Europe/Helsinki:20240624T090000
DTEND;TZID=Europe/Helsinki:20240624T110000
DTSTAMP:20260420T163655
CREATED:20240531T212310Z
LAST-MODIFIED:20240531T212310Z
UID:15297-1719219600-1719226800@hagiasophia.waw.pl
SUMMARY:Święta Liturgia DZIEŃ ŚWIĘTEGO DUCHA
DESCRIPTION:
URL:https://hagiasophia.waw.pl/event/swieta-liturgia-dzien-swietego-ducha/
END:VEVENT
BEGIN:VEVENT
DTSTART;TZID=Europe/Helsinki:20240629T090000
DTEND;TZID=Europe/Helsinki:20240629T110000
DTSTAMP:20260420T163655
CREATED:20240531T212409Z
LAST-MODIFIED:20240531T212409Z
UID:15299-1719651600-1719658800@hagiasophia.waw.pl
SUMMARY:Święta Liturgia i Panichida Zakończenie święta Pięćdziesiątnicy
DESCRIPTION:
URL:https://hagiasophia.waw.pl/event/swieta-liturgia-i-panichida-zakonczenie-swieta-piecdziesiatnicy/
END:VEVENT
BEGIN:VEVENT
DTSTART;TZID=Europe/Helsinki:20240630T100000
DTEND;TZID=Europe/Helsinki:20240630T120000
DTSTAMP:20260420T163655
CREATED:20240531T212456Z
LAST-MODIFIED:20240531T212616Z
UID:15301-1719741600-1719748800@hagiasophia.waw.pl
SUMMARY:Święta Liturgia (główny ołtarz) WSZYSTKICH ŚWIĘTYCH
DESCRIPTION:
URL:https://hagiasophia.waw.pl/event/swieta-liturgia-glowny-oltarz-wszystkich-swietych/
END:VEVENT
BEGIN:VEVENT
DTSTART;TZID=Europe/Helsinki:20240706T090000
DTEND;TZID=Europe/Helsinki:20240706T110000
DTSTAMP:20260420T163655
CREATED:20240627T140629Z
LAST-MODIFIED:20240627T140629Z
UID:15635-1720256400-1720263600@hagiasophia.waw.pl
SUMMARY:Święta Liturgia i Panichida
DESCRIPTION:
URL:https://hagiasophia.waw.pl/event/swieta-liturgia-i-panichida-23/
END:VEVENT
END:VCALENDAR