BEGIN:VCALENDAR
VERSION:2.0
PRODID:-//Prawosławna Parafia św. Sofii Mądrości Bożej - ECPv6.2.8.2//NONSGML v1.0//EN
CALSCALE:GREGORIAN
METHOD:PUBLISH
X-WR-CALNAME:Prawosławna Parafia św. Sofii Mądrości Bożej
X-ORIGINAL-URL:https://hagiasophia.waw.pl
X-WR-CALDESC:Wydarzenia dla Prawosławna Parafia św. Sofii Mądrości Bożej
REFRESH-INTERVAL;VALUE=DURATION:PT1H
X-Robots-Tag:noindex
X-PUBLISHED-TTL:PT1H
BEGIN:VTIMEZONE
TZID:Europe/Warsaw
BEGIN:DAYLIGHT
TZOFFSETFROM:+0100
TZOFFSETTO:+0200
TZNAME:CEST
DTSTART:20260329T010000
END:DAYLIGHT
BEGIN:STANDARD
TZOFFSETFROM:+0200
TZOFFSETTO:+0100
TZNAME:CET
DTSTART:20261025T010000
END:STANDARD
END:VTIMEZONE
BEGIN:VEVENT
DTSTART;TZID=Europe/Warsaw:20260304T180000
DTEND;TZID=Europe/Warsaw:20260304T193000
DTSTAMP:20260421T195718
CREATED:20260304T145411Z
LAST-MODIFIED:20260304T145411Z
UID:20604-1772647200-1772652600@hagiasophia.waw.pl
SUMMARY:Liturgia Uprzednio Uświęconych Darów
DESCRIPTION:
URL:https://hagiasophia.waw.pl/event/liturgia-uprzednio-uswieconych-darow-4/
END:VEVENT
BEGIN:VEVENT
DTSTART;TZID=Europe/Warsaw:20260307T090000
DTEND;TZID=Europe/Warsaw:20260307T110000
DTSTAMP:20260421T195718
CREATED:20260304T145529Z
LAST-MODIFIED:20260304T145529Z
UID:20606-1772874000-1772881200@hagiasophia.waw.pl
SUMMARY:Święta Liturgia i Panichida Wspomnienie zmarłych
DESCRIPTION:
URL:https://hagiasophia.waw.pl/event/swieta-liturgia-i-panichida-wspomnienie-zmarlych-6/
END:VEVENT
BEGIN:VEVENT
DTSTART;TZID=Europe/Warsaw:20260307T170000
DTEND;TZID=Europe/Warsaw:20260307T190000
DTSTAMP:20260421T195718
CREATED:20260304T145631Z
LAST-MODIFIED:20260304T145631Z
UID:20608-1772902800-1772910000@hagiasophia.waw.pl
SUMMARY:Całonocne Czuwanie
DESCRIPTION:
URL:https://hagiasophia.waw.pl/event/calonocne-czuwanie-369/
END:VEVENT
BEGIN:VEVENT
DTSTART;TZID=Europe/Warsaw:20260308T080000
DTEND;TZID=Europe/Warsaw:20260308T093000
DTSTAMP:20260421T195718
CREATED:20260304T145726Z
LAST-MODIFIED:20260304T145726Z
UID:20610-1772956800-1772962200@hagiasophia.waw.pl
SUMMARY:I Święta Liturgia
DESCRIPTION:
URL:https://hagiasophia.waw.pl/event/i-swieta-liturgia-65/
END:VEVENT
BEGIN:VEVENT
DTSTART;TZID=Europe/Warsaw:20260308T100000
DTEND;TZID=Europe/Warsaw:20260308T120000
DTSTAMP:20260421T195718
CREATED:20260304T145821Z
LAST-MODIFIED:20260304T145821Z
UID:20612-1772964000-1772971200@hagiasophia.waw.pl
SUMMARY:II Święta Liturgia II Niedziela Wielkiego Postu Św. Grzegorza Palamasa
DESCRIPTION:
URL:https://hagiasophia.waw.pl/event/ii-swieta-liturgia-ii-niedziela-wielkiego-postu-sw-grzegorza-palamasa-2/
END:VEVENT
BEGIN:VEVENT
DTSTART;TZID=Europe/Warsaw:20260311T180000
DTEND;TZID=Europe/Warsaw:20260311T200000
DTSTAMP:20260421T195718
CREATED:20260304T145911Z
LAST-MODIFIED:20260304T145911Z
UID:20614-1773252000-1773259200@hagiasophia.waw.pl
SUMMARY:Liturgia Uprzednio Uświęconych Darów
DESCRIPTION:
URL:https://hagiasophia.waw.pl/event/liturgia-uprzednio-uswieconych-darow-5/
END:VEVENT
BEGIN:VEVENT
DTSTART;TZID=Europe/Warsaw:20260314T090000
DTEND;TZID=Europe/Warsaw:20260314T110000
DTSTAMP:20260421T195718
CREATED:20260304T145954Z
LAST-MODIFIED:20260304T145954Z
UID:20616-1773478800-1773486000@hagiasophia.waw.pl
SUMMARY:Święta Liturgia i Panichida Wspomnienie zmarłych
DESCRIPTION:
URL:https://hagiasophia.waw.pl/event/swieta-liturgia-i-panichida-wspomnienie-zmarlych-7/
END:VEVENT
BEGIN:VEVENT
DTSTART;TZID=Europe/Warsaw:20260314T170000
DTEND;TZID=Europe/Warsaw:20260314T190000
DTSTAMP:20260421T195718
CREATED:20260304T150042Z
LAST-MODIFIED:20260304T150042Z
UID:20618-1773507600-1773514800@hagiasophia.waw.pl
SUMMARY:Całonocne Czuwanie z wyniesieniem Świętego Krzyża
DESCRIPTION:
URL:https://hagiasophia.waw.pl/event/calonocne-czuwanie-z-wyniesieniem-swietego-krzyza/
END:VEVENT
BEGIN:VEVENT
DTSTART;TZID=Europe/Warsaw:20260315T080000
DTEND;TZID=Europe/Warsaw:20260315T093000
DTSTAMP:20260421T195718
CREATED:20260304T150158Z
LAST-MODIFIED:20260304T150158Z
UID:20620-1773561600-1773567000@hagiasophia.waw.pl
SUMMARY:I Święta Liturgia
DESCRIPTION:
URL:https://hagiasophia.waw.pl/event/i-swieta-liturgia-66/
END:VEVENT
BEGIN:VEVENT
DTSTART;TZID=Europe/Warsaw:20260315T100000
DTEND;TZID=Europe/Warsaw:20260315T120000
DTSTAMP:20260421T195718
CREATED:20260304T150246Z
LAST-MODIFIED:20260304T150246Z
UID:20622-1773568800-1773576000@hagiasophia.waw.pl
SUMMARY:II Święta Liturgia III Niedziela Wielkiego Postu Świętego Krzyża
DESCRIPTION:
URL:https://hagiasophia.waw.pl/event/ii-swieta-liturgia-iii-niedziela-wielkiego-postu-swietego-krzyza-2/
END:VEVENT
BEGIN:VEVENT
DTSTART;TZID=Europe/Warsaw:20260318T180000
DTEND;TZID=Europe/Warsaw:20260318T200000
DTSTAMP:20260421T195718
CREATED:20260304T150344Z
LAST-MODIFIED:20260304T150344Z
UID:20624-1773856800-1773864000@hagiasophia.waw.pl
SUMMARY:Liturgia Uprzednio Uświęconych Darów
DESCRIPTION:
URL:https://hagiasophia.waw.pl/event/liturgia-uprzednio-uswieconych-darow-6/
END:VEVENT
BEGIN:VEVENT
DTSTART;TZID=Europe/Warsaw:20260321T090000
DTEND;TZID=Europe/Warsaw:20260321T110000
DTSTAMP:20260421T195718
CREATED:20260304T150446Z
LAST-MODIFIED:20260304T150446Z
UID:20626-1774083600-1774090800@hagiasophia.waw.pl
SUMMARY:Święta Liturgia i Panichida Wspomnienie zmarłych
DESCRIPTION:
URL:https://hagiasophia.waw.pl/event/swieta-liturgia-i-panichida-wspomnienie-zmarlych-8/
END:VEVENT
BEGIN:VEVENT
DTSTART;TZID=Europe/Warsaw:20260321T170000
DTEND;TZID=Europe/Warsaw:20260321T190000
DTSTAMP:20260421T195718
CREATED:20260304T150546Z
LAST-MODIFIED:20260304T150546Z
UID:20628-1774112400-1774119600@hagiasophia.waw.pl
SUMMARY:Całonocne Czuwanie
DESCRIPTION:
URL:https://hagiasophia.waw.pl/event/calonocne-czuwanie-370/
END:VEVENT
BEGIN:VEVENT
DTSTART;TZID=Europe/Warsaw:20260322T080000
DTEND;TZID=Europe/Warsaw:20260322T093000
DTSTAMP:20260421T195718
CREATED:20260304T150652Z
LAST-MODIFIED:20260304T150652Z
UID:20630-1774166400-1774171800@hagiasophia.waw.pl
SUMMARY:I Święta Liturgia
DESCRIPTION:
URL:https://hagiasophia.waw.pl/event/i-swieta-liturgia-67/
END:VEVENT
BEGIN:VEVENT
DTSTART;TZID=Europe/Warsaw:20260322T100000
DTEND;TZID=Europe/Warsaw:20260322T120000
DTSTAMP:20260421T195718
CREATED:20260304T150800Z
LAST-MODIFIED:20260304T150800Z
UID:20632-1774173600-1774180800@hagiasophia.waw.pl
SUMMARY:II Święta Liturgia IV Niedziela Wielkiego Postu Św. Jana Klimaka
DESCRIPTION:
URL:https://hagiasophia.waw.pl/event/ii-swieta-liturgia-iv-niedziela-wielkiego-postu-sw-jana-klimaka-2/
END:VEVENT
BEGIN:VEVENT
DTSTART;TZID=Europe/Warsaw:20260325T180000
DTEND;TZID=Europe/Warsaw:20260325T210000
DTSTAMP:20260421T195718
CREATED:20260304T150918Z
LAST-MODIFIED:20260304T150918Z
UID:20634-1774461600-1774472400@hagiasophia.waw.pl
SUMMARY:Jutrznia z czytaniem Wielkiego Kanonu Św. Andrzeja z Krety
DESCRIPTION:
URL:https://hagiasophia.waw.pl/event/jutrznia-z-czytaniem-wielkiego-kanonu-sw-andrzeja-z-krety-3/
END:VEVENT
BEGIN:VEVENT
DTSTART;TZID=Europe/Warsaw:20260327T180000
DTEND;TZID=Europe/Warsaw:20260327T180000
DTSTAMP:20260421T195718
CREATED:20260304T151129Z
LAST-MODIFIED:20260304T151129Z
UID:20636-1774634400-1774634400@hagiasophia.waw.pl
SUMMARY:Jutrznia z czytaniem Akatystu do Najświętszej Bogurodzicy
DESCRIPTION:
URL:https://hagiasophia.waw.pl/event/jutrznia-z-czytaniem-akatystu-do-najswietszej-bogurodzicy/
END:VEVENT
BEGIN:VEVENT
DTSTART;TZID=Europe/Warsaw:20260328T090000
DTEND;TZID=Europe/Warsaw:20260328T110000
DTSTAMP:20260421T195718
CREATED:20260304T151351Z
LAST-MODIFIED:20260304T151351Z
UID:20638-1774688400-1774695600@hagiasophia.waw.pl
SUMMARY:Święta Liturgia Sobota Akatystu
DESCRIPTION:
URL:https://hagiasophia.waw.pl/event/swieta-liturgia-sobota-akatystu/
END:VEVENT
BEGIN:VEVENT
DTSTART;TZID=Europe/Warsaw:20260328T170000
DTEND;TZID=Europe/Warsaw:20260328T190000
DTSTAMP:20260421T195718
CREATED:20260304T151623Z
LAST-MODIFIED:20260304T151623Z
UID:20640-1774717200-1774724400@hagiasophia.waw.pl
SUMMARY:Całonocne Czuwanie
DESCRIPTION:
URL:https://hagiasophia.waw.pl/event/calonocne-czuwanie-371/
END:VEVENT
BEGIN:VEVENT
DTSTART;TZID=Europe/Warsaw:20260329T080000
DTEND;TZID=Europe/Warsaw:20260329T093000
DTSTAMP:20260421T195718
CREATED:20260304T151726Z
LAST-MODIFIED:20260304T151726Z
UID:20642-1774771200-1774776600@hagiasophia.waw.pl
SUMMARY:I Święta Liturgia
DESCRIPTION:
URL:https://hagiasophia.waw.pl/event/i-swieta-liturgia-68/
END:VEVENT
BEGIN:VEVENT
DTSTART;TZID=Europe/Warsaw:20260329T100000
DTEND;TZID=Europe/Warsaw:20260329T120000
DTSTAMP:20260421T195718
CREATED:20260304T152025Z
LAST-MODIFIED:20260304T152025Z
UID:20644-1774778400-1774785600@hagiasophia.waw.pl
SUMMARY:II Święta Liturgia V Niedziela Wielkiego Postu Św. Marii Egipskiej
DESCRIPTION:
URL:https://hagiasophia.waw.pl/event/ii-swieta-liturgia-v-niedziela-wielkiego-postu-sw-marii-egipskiej/
END:VEVENT
BEGIN:VEVENT
DTSTART;TZID=Europe/Warsaw:20260401T160000
DTEND;TZID=Europe/Warsaw:20260401T173000
DTSTAMP:20260421T195718
CREATED:20260331T051703Z
LAST-MODIFIED:20260331T051703Z
UID:20714-1775059200-1775064600@hagiasophia.waw.pl
SUMMARY:Sakrament chorych SOBOROWANIE
DESCRIPTION:
URL:https://hagiasophia.waw.pl/event/sakrament-chorych-soborowanie-3/
END:VEVENT
BEGIN:VEVENT
DTSTART;TZID=Europe/Warsaw:20260401T180000
DTEND;TZID=Europe/Warsaw:20260401T193000
DTSTAMP:20260421T195718
CREATED:20260331T051809Z
LAST-MODIFIED:20260331T051809Z
UID:20716-1775066400-1775071800@hagiasophia.waw.pl
SUMMARY:Święta Liturgia Uprzednio Uświęconych Darów
DESCRIPTION:
URL:https://hagiasophia.waw.pl/event/swieta-liturgia-uprzednio-uswieconych-darow-8/
END:VEVENT
BEGIN:VEVENT
DTSTART;TZID=Europe/Warsaw:20260404T090000
DTEND;TZID=Europe/Warsaw:20260404T110000
DTSTAMP:20260421T195718
CREATED:20260331T051902Z
LAST-MODIFIED:20260331T052120Z
UID:20718-1775293200-1775300400@hagiasophia.waw.pl
SUMMARY:Święta Liturgia Sobota Łazarza Wskrzeszenie św. Łazarza
DESCRIPTION:
URL:https://hagiasophia.waw.pl/event/swieta-liturgia-sobota-lazarza-wskrzeszenie-sw-lazarza-3/
END:VEVENT
BEGIN:VEVENT
DTSTART;TZID=Europe/Warsaw:20260404T170000
DTEND;TZID=Europe/Warsaw:20260404T190000
DTSTAMP:20260421T195718
CREATED:20260331T051945Z
LAST-MODIFIED:20260331T052158Z
UID:20720-1775322000-1775329200@hagiasophia.waw.pl
SUMMARY:Całonocne Czuwanie i poświęcenie palm Wigilia Święta Wejścia Pana do Jerozolimy
DESCRIPTION:
URL:https://hagiasophia.waw.pl/event/calonocne-czuwanie-i-poswiecenie-palm-wigilia-swieta-wejscia-pana-do-jerozolimy-2/
END:VEVENT
BEGIN:VEVENT
DTSTART;TZID=Europe/Warsaw:20260405T080000
DTEND;TZID=Europe/Warsaw:20260405T100000
DTSTAMP:20260421T195718
CREATED:20260331T052047Z
LAST-MODIFIED:20260331T052047Z
UID:20722-1775376000-1775383200@hagiasophia.waw.pl
SUMMARY:I Święta Liturgia i poświęcenie palm
DESCRIPTION:
URL:https://hagiasophia.waw.pl/event/i-swieta-liturgia-i-poswiecenie-palm-2/
END:VEVENT
BEGIN:VEVENT
DTSTART;TZID=Europe/Warsaw:20260405T100000
DTEND;TZID=Europe/Warsaw:20260405T120000
DTSTAMP:20260421T195718
CREATED:20260331T052256Z
LAST-MODIFIED:20260331T052256Z
UID:20724-1775383200-1775390400@hagiasophia.waw.pl
SUMMARY:II Święta Liturgia i poświęcenie palm ŚWIĘTO WEJŚCIA PANA DO JEROZOLIMY. NIEDZIELA PALMOWA
DESCRIPTION:
URL:https://hagiasophia.waw.pl/event/ii-swieta-liturgia-i-poswiecenie-palm-swieto-wejscia-pana-do-jerozolimy-niedziela-palmowa-2/
END:VEVENT
BEGIN:VEVENT
DTSTART;TZID=Europe/Warsaw:20260406T180000
DTEND;TZID=Europe/Warsaw:20260406T200000
DTSTAMP:20260421T195718
CREATED:20260331T052348Z
LAST-MODIFIED:20260331T052348Z
UID:20726-1775498400-1775505600@hagiasophia.waw.pl
SUMMARY:Całonocne Czuwanie Wigilia święta Zwiastowania Najświętszej Bogurodzicy
DESCRIPTION:
URL:https://hagiasophia.waw.pl/event/calonocne-czuwanie-wigilia-swieta-zwiastowania-najswietszej-bogurodzicy-2/
END:VEVENT
BEGIN:VEVENT
DTSTART;TZID=Europe/Warsaw:20260407T090000
DTEND;TZID=Europe/Warsaw:20260407T110000
DTSTAMP:20260421T195718
CREATED:20260331T052440Z
LAST-MODIFIED:20260331T052613Z
UID:20728-1775552400-1775559600@hagiasophia.waw.pl
SUMMARY:Święta Liturgia ŚWIĘTO ZWIASTOWANIA NAJŚWIETSZEJ BOGURODZICY
DESCRIPTION:
URL:https://hagiasophia.waw.pl/event/swieta-liturgia-swieto-zwiastowania-najswietszej-bogurodzicy-2/
END:VEVENT
BEGIN:VEVENT
DTSTART;TZID=Europe/Warsaw:20260408T090000
DTEND;TZID=Europe/Warsaw:20260408T110000
DTSTAMP:20260421T195718
CREATED:20260331T052752Z
LAST-MODIFIED:20260331T052752Z
UID:20730-1775638800-1775646000@hagiasophia.waw.pl
SUMMARY:Święta Liturgia Uprzednio Uświęconych Darów
DESCRIPTION:
URL:https://hagiasophia.waw.pl/event/swieta-liturgia-uprzednio-uswieconych-darow-9/
END:VEVENT
END:VCALENDAR