BEGIN:VCALENDAR
VERSION:2.0
PRODID:-//Prawosławna Parafia św. Sofii Mądrości Bożej - ECPv6.2.8.2//NONSGML v1.0//EN
CALSCALE:GREGORIAN
METHOD:PUBLISH
X-ORIGINAL-URL:https://hagiasophia.waw.pl
X-WR-CALDESC:Wydarzenia dla Prawosławna Parafia św. Sofii Mądrości Bożej
REFRESH-INTERVAL;VALUE=DURATION:PT1H
X-Robots-Tag:noindex
X-PUBLISHED-TTL:PT1H
BEGIN:VTIMEZONE
TZID:Europe/Helsinki
BEGIN:DAYLIGHT
TZOFFSETFROM:+0200
TZOFFSETTO:+0300
TZNAME:EEST
DTSTART:20240331T010000
END:DAYLIGHT
BEGIN:STANDARD
TZOFFSETFROM:+0300
TZOFFSETTO:+0200
TZNAME:EET
DTSTART:20241027T010000
END:STANDARD
END:VTIMEZONE
BEGIN:VEVENT
DTSTART;TZID=Europe/Helsinki:20240519T080000
DTEND;TZID=Europe/Helsinki:20240519T100000
DTSTAMP:20260420T150126
CREATED:20240423T181851Z
LAST-MODIFIED:20240423T183812Z
UID:14824-1716105600-1716112800@hagiasophia.waw.pl
SUMMARY:TRZECIA NIEDZIELA PO PASCE ŚWIĘTYCH NIEWIAST NIOSĄCYCH WONNOŚCI Święta Liturgia (ołtarz św. męcz. Pantelejmona)
DESCRIPTION:
URL:https://hagiasophia.waw.pl/event/trzecia-niedziela-po-pasce-swietych-niewiast-niosacych-wonnosciswieta-liturgia-oltarz-sw-mecz-pantelejmona/
END:VEVENT
BEGIN:VEVENT
DTSTART;TZID=Europe/Helsinki:20240519T100000
DTEND;TZID=Europe/Helsinki:20240519T120000
DTSTAMP:20260420T150126
CREATED:20240423T181928Z
LAST-MODIFIED:20240423T183403Z
UID:14826-1716112800-1716120000@hagiasophia.waw.pl
SUMMARY:Święta Liturgia (główny ołtarz)
DESCRIPTION:
URL:https://hagiasophia.waw.pl/event/swieta-liturgia-glowny-oltarz-trzecia-niedziela-po-pasce-swietych-niewiast-niosacych-wonnosc/
END:VEVENT
END:VCALENDAR