BEGIN:VCALENDAR
VERSION:2.0
PRODID:-//Prawosławna Parafia św. Sofii Mądrości Bożej - ECPv6.2.8.2//NONSGML v1.0//EN
CALSCALE:GREGORIAN
METHOD:PUBLISH
X-WR-CALNAME:Prawosławna Parafia św. Sofii Mądrości Bożej
X-ORIGINAL-URL:https://hagiasophia.waw.pl
X-WR-CALDESC:Wydarzenia dla Prawosławna Parafia św. Sofii Mądrości Bożej
REFRESH-INTERVAL;VALUE=DURATION:PT1H
X-Robots-Tag:noindex
X-PUBLISHED-TTL:PT1H
BEGIN:VTIMEZONE
TZID:Europe/Helsinki
BEGIN:DAYLIGHT
TZOFFSETFROM:+0200
TZOFFSETTO:+0300
TZNAME:EEST
DTSTART:20240331T010000
END:DAYLIGHT
BEGIN:STANDARD
TZOFFSETFROM:+0300
TZOFFSETTO:+0200
TZNAME:EET
DTSTART:20241027T010000
END:STANDARD
END:VTIMEZONE
BEGIN:VEVENT
DTSTART;TZID=Europe/Helsinki:20240512T080000
DTEND;TZID=Europe/Helsinki:20240512T100000
DTSTAMP:20260420T144532
CREATED:20240423T181548Z
LAST-MODIFIED:20240423T183959Z
UID:14816-1715500800-1715508000@hagiasophia.waw.pl
SUMMARY:DRUGA NIEDZIELA PO PASCE ŚW. AP. TOMASZA ANTYPASCHA Święta Liturgia (ołtarz św. męcz. Pantelejmona)
DESCRIPTION:
URL:https://hagiasophia.waw.pl/event/druga-niedziela-po-pasce-sw-ap-tomasza-antypascha/
END:VEVENT
BEGIN:VEVENT
DTSTART;TZID=Europe/Helsinki:20240512T100000
DTEND;TZID=Europe/Helsinki:20240512T120000
DTSTAMP:20260420T144532
CREATED:20240423T181639Z
LAST-MODIFIED:20240423T181639Z
UID:14818-1715508000-1715515200@hagiasophia.waw.pl
SUMMARY:Święta Liturgia (główny ołtarz)
DESCRIPTION:
URL:https://hagiasophia.waw.pl/event/swieta-liturgia-glowny-oltarz-16/
END:VEVENT
END:VCALENDAR