BEGIN:VCALENDAR
VERSION:2.0
PRODID:-//Prawosławna Parafia św. Sofii Mądrości Bożej - ECPv6.2.8.2//NONSGML v1.0//EN
CALSCALE:GREGORIAN
METHOD:PUBLISH
X-WR-CALNAME:Prawosławna Parafia św. Sofii Mądrości Bożej
X-ORIGINAL-URL:https://hagiasophia.waw.pl
X-WR-CALDESC:Wydarzenia dla Prawosławna Parafia św. Sofii Mądrości Bożej
REFRESH-INTERVAL;VALUE=DURATION:PT1H
X-Robots-Tag:noindex
X-PUBLISHED-TTL:PT1H
BEGIN:VTIMEZONE
TZID:Europe/Helsinki
BEGIN:DAYLIGHT
TZOFFSETFROM:+0200
TZOFFSETTO:+0300
TZNAME:EEST
DTSTART:20200329T010000
END:DAYLIGHT
BEGIN:STANDARD
TZOFFSETFROM:+0300
TZOFFSETTO:+0200
TZNAME:EET
DTSTART:20201025T010000
END:STANDARD
END:VTIMEZONE
BEGIN:VEVENT
DTSTART;TZID=Europe/Helsinki:20200304T090000
DTEND;TZID=Europe/Helsinki:20200304T110000
DTSTAMP:20260419T161954
CREATED:20200226T100945Z
LAST-MODIFIED:20200226T100945Z
UID:5249-1583312400-1583319600@hagiasophia.waw.pl
SUMMARY:Liturgia Uprzednio Poświęconych Darów
DESCRIPTION:
URL:https://hagiasophia.waw.pl/event/liturgia-uprzednio-poswieconych-darow-3/
END:VEVENT
BEGIN:VEVENT
DTSTART;TZID=Europe/Helsinki:20200304T180000
DTEND;TZID=Europe/Helsinki:20200304T200000
DTSTAMP:20260419T161954
CREATED:20200226T101041Z
LAST-MODIFIED:20200226T101041Z
UID:5251-1583344800-1583352000@hagiasophia.waw.pl
SUMMARY:Wielki Kanon św. Andrzeja z Krety
DESCRIPTION:
URL:https://hagiasophia.waw.pl/event/wielki-kanon-sw-andrzeja-z-krety-3/
END:VEVENT
END:VCALENDAR